BEGIN:VCALENDAR
VERSION:2.0
CALSCALE:GREGORIAN
PRODID:adamgibbons/ics
METHOD:PUBLISH
X-PUBLISHED-TTL:PT1H
BEGIN:VEVENT
UID:679@keepkarlsruheboring.org
SUMMARY:Leona Berlin
DTSTAMP:20260423T114131Z
DTSTART:20260509T180000Z
URL:https://keepkarlsruheboring.org/event/leona-berlin
GEO:49.0135;8.35882
LOCATION:Kulturzentrum Tempel - Kulturverein Tempel e.V. im Kulturzentrum T
	empel Hardtstraße 37 A D-76185 Karlsruhe
STATUS:CONFIRMED
CATEGORIES:jazz soul hiphop,Music
END:VEVENT
END:VCALENDAR
